BEGIN:VCALENDAR
VERSION:2.0
PRODID:-//wp-events-plugin.com//7.2.3.1//EN
BEGIN:VEVENT
UID:52@kiel-szene.de
DTSTART;TZID=Europe/Berlin:20260430T200000
DTEND;TZID=Europe/Berlin:20260430T220000
DTSTAMP:20260422T172632Z
URL:https://kiel-szene.de/events/tanzbar-62
SUMMARY:Tanzbar #62
DESCRIPTION:\n\nDJ Zucker spielt fröhliche\, wilde und ehrliche Musik. Ohn
 e Genre- und Altersgrenzen und mit viel guter Laune. Und das STATT-CAFÉ i
 m Foyer des KulturForums wird zum gemütlichen Dancefloor.\n&nbsp\;\nAll S
 tyles – All Ages – All Together!\n\nEintritt frei – Spende erbeten
ATTACH;FMTTYPE=image/jpeg:https://kiel-szene.de/wp-content/uploads/2026/02
 /07032026-TanzBAR-A-Seite-Etikett-petrol-e1770749648767.jpg
CATEGORIES:Live-Konzerte,Partys
LOCATION:Statt-Cafe\, Andreas-Gayk-Straße 31\, Kiel\, 24103\, Deutschland
X-APPLE-STRUCTURED-LOCATION;VALUE=URI;X-ADDRESS=Andreas-Gayk-Straße 31\, K
 iel\, 24103\, Deutschland;X-APPLE-RADIUS=100;X-TITLE=Statt-Cafe:geo:0,0
END:VEVENT
BEGIN:VTIMEZONE
TZID:Europe/Berlin
X-LIC-LOCATION:Europe/Berlin
BEGIN:DAYLIGHT
DTSTART:20260329T030000
TZOFFSETFROM:+0100
TZOFFSETTO:+0200
TZNAME:CEST
END:DAYLIGHT
END:VTIMEZONE
END:VCALENDAR