BEGIN:VCALENDAR
VERSION:2.0
PRODID:-//wp-events-plugin.com//7.2.3.1//EN
BEGIN:VEVENT
UID:51@kiel-szene.de
DTSTART;TZID=Europe/Berlin:20260427T200000
DTEND;TZID=Europe/Berlin:20260427T220000
DTSTAMP:20260422T172450Z
URL:https://kiel-szene.de/events/singbar-im-statt-caf
SUMMARY:SingBAR im STATT-CAFÉ
DESCRIPTION:\n\nDie originelle und gut gelaunte Singparty mit Axel Riemann!
 \nWir freuen uns auf jede Stimme\, ob hoch oder tief\, jung oder alt\, ge
 übt\, ungeübt oder eingerostet.\n&nbsp\;\nHauptsache Singen ist dein Din
 g!\n&nbsp\;\nEintritt frei – Spende erbeten
ATTACH;FMTTYPE=image/jpeg:https://kiel-szene.de/wp-content/uploads/2026/04
 /jpg.jpg
CATEGORIES:Live-Konzerte
LOCATION:Statt-Cafe\, Andreas-Gayk-Straße 31\, Kiel\, 24103\, Deutschland
X-APPLE-STRUCTURED-LOCATION;VALUE=URI;X-ADDRESS=Andreas-Gayk-Straße 31\, K
 iel\, 24103\, Deutschland;X-APPLE-RADIUS=100;X-TITLE=Statt-Cafe:geo:0,0
END:VEVENT
BEGIN:VTIMEZONE
TZID:Europe/Berlin
X-LIC-LOCATION:Europe/Berlin
BEGIN:DAYLIGHT
DTSTART:20260329T030000
TZOFFSETFROM:+0100
TZOFFSETTO:+0200
TZNAME:CEST
END:DAYLIGHT
END:VTIMEZONE
END:VCALENDAR