BEGIN:VCALENDAR
VERSION:2.0
PRODID:-//wp-events-plugin.com//7.2.3.1//EN
BEGIN:VEVENT
UID:21@kiel-szene.de
DTSTART;TZID=Europe/Berlin:20260409T193000
DTEND;TZID=Europe/Berlin:20260409T213000
DTSTAMP:20260331T144018Z
URL:https://kiel-szene.de/events/original-kieler-poetry-slam-2
SUMMARY:Original Kieler Poetry Slam
DESCRIPTION:\n\nDer älteste Poetry Slam Schleswig-Holsteins.\n\nAuch 2026 
 präsentiert assemble ART jeden Monat wieder norddeutsche Hochkaräter und
  die Stars der deutschsprachigen und internationalen Slam-Szene.\n\nModera
 tion: Björn Högsdal\n\nVeranstalter: assemble ART\n\nEintritt: 12 Euro z
 zgl. Vvk-Gebühr / 9 Euro ermäßigt
ATTACH;FMTTYPE=image/jpeg:https://kiel-szene.de/wp-content/uploads/2026/03
 /poetry-1.jpg
CATEGORIES:Sonstiges,Theater
LOCATION:Kulturforum\, Andreas-Gayk-Straße 31\, Kiel\, 24103\, Deutschland
X-APPLE-STRUCTURED-LOCATION;VALUE=URI;X-ADDRESS=Andreas-Gayk-Straße 31\, K
 iel\, 24103\, Deutschland;X-APPLE-RADIUS=100;X-TITLE=Kulturforum:geo:0,0
END:VEVENT
BEGIN:VTIMEZONE
TZID:Europe/Berlin
X-LIC-LOCATION:Europe/Berlin
BEGIN:DAYLIGHT
DTSTART:20260329T030000
TZOFFSETFROM:+0100
TZOFFSETTO:+0200
TZNAME:CEST
END:DAYLIGHT
END:VTIMEZONE
END:VCALENDAR