BEGIN:VCALENDAR
VERSION:2.0
PRODID:-//wp-events-plugin.com//7.2.3.1//EN
BEGIN:VEVENT
UID:49@kiel-szene.de
DTSTART;TZID=Europe/Berlin:20260426T190000
DTEND;TZID=Europe/Berlin:20260426T203000
DTSTAMP:20260414T074349Z
URL:https://kiel-szene.de/events/mozart-konzert-60-jahre-kodly-quartet
SUMMARY:Mozart-Konzert: 60 Jahre Kodály Quartet
DESCRIPTION:\n\nDie beliebte Musikfreunde-Kiel-Reihe der Mozart-Konzerte in
  der Nikolaikirche Kiel hat eine legendäre\nKammermusik-Formation zu Gast
 : Das berühmte ungarische Kodály Quartet ist auf Jubiläumstour und feie
 rt ihre\n60-jährige Tradition.\n\nAm Sonntag\, 26. April 2026\, um 19 Uhr
  spielen Attila Falvay und Ferenc Bangó\, Violinen\, Zoltán Tuska\, Viol
 a\,\nund György Éder\, Violoncello das Es-Dur-Quartett KV 428. Dann nehm
 en sie Bezug auf Mozart\, indem sie das\nzweite Streichquartett op. 10 von
  ihrem Landsmann und Namensgeber Zoltán Kodály aufführen.\nZum krönend
 en Abschluss wird ein sehr persönliches\, sehr emotionales und tief roman
 tisches Meisterwerk des\nTschechen Friedrich Smetana begeistern: das Strei
 chquartett Nr. 1 in e-Moll Aus meinen Leben.\nTickets gibt es für 16 bis 
 33 Euro (sowie ermäßigt für Mitglieder) über Tel. 0431 / 149 01 24 und
  www.musik-\nfreunde-kiel.de.\n\nFoto: www.kodalyquartet.com\n\nDaten:\nMo
 zart-Konzert mit dem Kodály Quartet\, Budapest\n\nSonntag\, 26. April 202
 6\, 19 Uhr\, Nikolaikirche Kiel (Alter Markt)\n\nJubiläumstournee: 60 Jah
 re Kodály Quartet\n• Wolfgang Amadeus Mozart (1756-1791)\nStreichquarte
 tt Nr. 16 in Es-Dur KV 428\n• Zoltán Kodály (1882-1967)\nStreichquarte
 tt Nr. 2 op. 10\n• Bedřich Smetana (1824-1884)\nStreichquartett Nr. 1 i
 n e-Moll Aus meinem Leben\nMitwirkende:\n• Attila Falvay\, Violine\n• 
 Ferenc Bangó\, Violine\n• Zoltán Tuska\, Viola\n• György Éder\, Vi
 oloncello\n\nPreise: 13 bis 28 Euro (Mitglieder)\; 16 bis 33 Euro (Nichtmi
 tglieder)\; 5 bis 10 Euro Schüler*innen /\nAuszubildende / Studierende. T
 ickets: www.musikfreunde-kiel.de und Tel. 0431 / 149 01 24.\nV
ATTACH;FMTTYPE=image/jpeg:https://kiel-szene.de/wp-content/uploads/2026/04
 /Kodaly-Quartett_Szilvia-Csibi_2_CMYK-e1776152609300.jpg
CATEGORIES:Live-Konzerte
LOCATION:St. Nikolai Kirche\, Alter Markt\, Kiel\, 24114\, Deutschland
X-APPLE-STRUCTURED-LOCATION;VALUE=URI;X-ADDRESS=Alter Markt\, Kiel\, 24114\
 , Deutschland;X-APPLE-RADIUS=100;X-TITLE=St. Nikolai Kirche:geo:0,0
END:VEVENT
BEGIN:VTIMEZONE
TZID:Europe/Berlin
X-LIC-LOCATION:Europe/Berlin
BEGIN:DAYLIGHT
DTSTART:20260329T030000
TZOFFSETFROM:+0100
TZOFFSETTO:+0200
TZNAME:CEST
END:DAYLIGHT
END:VTIMEZONE
END:VCALENDAR