BEGIN:VCALENDAR
VERSION:2.0
PRODID:-//wp-events-plugin.com//7.2.3.1//EN
BEGIN:VEVENT
UID:46@kiel-szene.de
DTSTART;TZID=Europe/Berlin:20260422T190000
DTEND;TZID=Europe/Berlin:20260422T210000
DTSTAMP:20260413T131019Z
URL:https://kiel-szene.de/events/lesung-von-stromkreisen-und-haekelnadeln-
 reden-gegen-das-nichtstun-mit-sasa-stanisi
SUMMARY:Lesung: Von Stromkreisen und Häkelnadeln. Reden gegen das Nichtstu
 n.  Mit Saša Stanišić.
DESCRIPTION:[caption id="attachment_42628" align="alignnone" width="378"] F
 oto: Luchterhand[/caption]\n\nImmer\, wenn Saša Stanišić spricht\, ents
 tehen Geschichten. Gespeist durch die eigene Biografie und Fantasie\, vers
 ammelt sein aktuelles Buch zehn literarische Ansprachen wider das Nichtstu
 n – Texte über Flucht\, Herkunft\, Bildungsgerechtigkeit und die Macht 
 der Vorstellungskraft.\n\nMit Witz und Ernsthaftigkeit\, Phantasie und Sor
 gfalt ermutigt der Autor in „Mein Unglück beginnt damit\, dass der Stro
 mkreis als Rechteck abgebildet wird“ (Luchterhand) dazu\, die eigenen 
 „Stromkreise“ neu zu denken.\n\nEine Kooperation mit dem Literaturhaus
  Schleswig-Holstein\n\nEintritt: 15 Euro /12 Euro Vvk-Gebühr\n\nKarten: l
 iteraturhaus-sh.reservix.de\, an den Reservix-Vorverkaufsstellen sowie bei
  der kostenfreien&nbsp\;Hotline 0761 888 499 99
ATTACH;FMTTYPE=image/jpeg:https://kiel-szene.de/wp-content/uploads/2026/04
 /22042026.jpg.jpg
CATEGORIES:Sonstiges
LOCATION:Kulturforum\, Andreas-Gayk-Straße 31\, Kiel\, 24103\, Deutschland
X-APPLE-STRUCTURED-LOCATION;VALUE=URI;X-ADDRESS=Andreas-Gayk-Straße 31\, K
 iel\, 24103\, Deutschland;X-APPLE-RADIUS=100;X-TITLE=Kulturforum:geo:0,0
END:VEVENT
BEGIN:VTIMEZONE
TZID:Europe/Berlin
X-LIC-LOCATION:Europe/Berlin
BEGIN:DAYLIGHT
DTSTART:20260329T030000
TZOFFSETFROM:+0100
TZOFFSETTO:+0200
TZNAME:CEST
END:DAYLIGHT
END:VTIMEZONE
END:VCALENDAR