BEGIN:VCALENDAR
VERSION:2.0
PRODID:-//wp-events-plugin.com//7.2.3.1//EN
BEGIN:VEVENT
UID:47@kiel-szene.de
DTSTART;TZID=Europe/Berlin:20260423T200000
DTEND;TZID=Europe/Berlin:20260423T223000
DTSTAMP:20260413T131313Z
URL:https://kiel-szene.de/events/jan-philipp-zymny-illegale-strassentherap
 ie
SUMMARY:Jan Philipp Zymny  „Illegale Straßentherapie“
DESCRIPTION:[caption id="attachment_42630" align="alignnone" width="292"] F
 oto: Fabian_Stuertz[/caption]\n\n„Illegale Straßentherapie“ ist genau
  das Richtige für Sie\, wenn Sie das Besondere schätzen. Sie finden kein
 en Therapieplatz? Alle Wartelisten sind geschlossen? Jan Philipp Zymnys ne
 ues abendfüllendes Programm macht Ihre Lage auch nicht schlechter. Seien 
 Sie dabei\, danach haben Sie zwar immer noch keinen Therapieplatz\, aber S
 ie hatten wenigstens einen schönen Abend.\n\nEin Abend für alle\, denen 
 gewöhnliche Comedy zu doof\, Philosophie zu anstrengend und die Realität
  zu langweilig ist.\n\nVeranstalter: Björn Högsdal\n\nEintritt: 23 Euro 
 zzgl. Vvk-Gebühr\, erm. 17 Euro - Die Veranstaltung ist bereits ausverkau
 ft!
ATTACH;FMTTYPE=image/jpeg:https://kiel-szene.de/wp-content/uploads/2026/04
 /23042026-Fabian_Stuertz.jpg
CATEGORIES:Theater
LOCATION:Kulturforum\, Andreas-Gayk-Straße 31\, Kiel\, 24103\, Deutschland
X-APPLE-STRUCTURED-LOCATION;VALUE=URI;X-ADDRESS=Andreas-Gayk-Straße 31\, K
 iel\, 24103\, Deutschland;X-APPLE-RADIUS=100;X-TITLE=Kulturforum:geo:0,0
END:VEVENT
BEGIN:VTIMEZONE
TZID:Europe/Berlin
X-LIC-LOCATION:Europe/Berlin
BEGIN:DAYLIGHT
DTSTART:20260329T030000
TZOFFSETFROM:+0100
TZOFFSETTO:+0200
TZNAME:CEST
END:DAYLIGHT
END:VTIMEZONE
END:VCALENDAR