BEGIN:VCALENDAR
VERSION:2.0
PRODID:-//wp-events-plugin.com//7.2.3.1//EN
BEGIN:VEVENT
UID:53@kiel-szene.de
DTSTART;TZID=Europe/Berlin:20260508T180000
DTEND;TZID=Europe/Berlin:20260508T200000
DTSTAMP:20260422T172955Z
URL:https://kiel-szene.de/events/eroeffnung-frequenz-festival-2026
SUMMARY:Eröffnung - Frequenz Festival 2026
DESCRIPTION:\nDie Eröffnung ist der jungen Generation in Schleswig-Holstei
 n gewidmet. Neben jungen Interpret*innen zeitgenössischer Werke\, darunte
 r Preisträger*innen von "Jugend musiziert" und Teilnehmer*innen des ISMA-
 Programms der Musikhochschule Lübeck\, gibt es eine Zusammenarbeit mit ju
 ngen Musiker*innen aus Kiel und Komponisten des Pariser Konservatoriums. M
 aster-Studierende der Musikhochschule Lübeck\, wie die Klangkünstlerin A
 nouk Kellner mit ihrer Installation Ein – Aus: Airchoir inter/reactive i
 m Auftrag von Frequenz\, sind ebenfalls vertreten. Das Publikum ist eingel
 aden\, aktiv teilzunehmen und erwartet ein vielfältiges Programm mit viel
 en Höhepunkten.
ATTACH;FMTTYPE=image/jpeg:https://kiel-szene.de/wp-content/uploads/2026/04
 /jp2g.jpg
CATEGORIES:Live-Konzerte
LOCATION:Kulturforum\, Andreas-Gayk-Straße 31\, Kiel\, 24103\, Deutschland
X-APPLE-STRUCTURED-LOCATION;VALUE=URI;X-ADDRESS=Andreas-Gayk-Straße 31\, K
 iel\, 24103\, Deutschland;X-APPLE-RADIUS=100;X-TITLE=Kulturforum:geo:0,0
END:VEVENT
BEGIN:VTIMEZONE
TZID:Europe/Berlin
X-LIC-LOCATION:Europe/Berlin
BEGIN:DAYLIGHT
DTSTART:20260329T030000
TZOFFSETFROM:+0100
TZOFFSETTO:+0200
TZNAME:CEST
END:DAYLIGHT
END:VTIMEZONE
END:VCALENDAR