BEGIN:VCALENDAR
VERSION:2.0
PRODID:-//wp-events-plugin.com//7.2.3.1//EN
BEGIN:VEVENT
UID:18@kiel-szene.de
DTSTART;TZID=Europe/Berlin:20260307T180000
DTEND;TZID=Europe/Berlin:20260307T193000
DTSTAMP:20260303T080744Z
URL:https://kiel-szene.de/events/3-klassisch-befluegelt-202526-kontrabass-
 im-fokus
SUMMARY:3. Klassisch beflügelt 2025/26: Kontrabass im Fokus
DESCRIPTION:\n\nEr sieht vielleicht behäbig aus\, seine Saiten sind dick\,
  sein Klang ist seriös sonor. Aber im Kontrabass schlummern ungeahnte Mö
 glichkeiten. Das weiß kaum jemand besser als ein Meister seines Fachs von
  den legendären Wiener Philharmonikern: Dominik Wagner! Der virtuose Bass
 ist aus dem Goldenen Saal des Wiener Musikvereins spielt nicht nur „Intr
 oduzione e Bolero“ vom Paganini des Kontrabasses\, Giovanni Bottesini\, 
 und eine Gambensonate von Bach\, er zaubert auch in einer „Carmen Fantas
 y“ von Frank Poto sowie in Werken von Pärt\, Mancini und Pizzolla.\n\nA
 n seiner Seite\, Steinway-beflügelt: eine der namhaftesten Pianistinnen u
 nserer Zeit. Lauma Skride kommt im- mer wieder gerne zu den Musikfreunden 
 und schafft diesmal den Klangraum für die tiefen und erstaunlich hohen T
 öne des größten Streichinstruments.\n\nDas außergewöhnliche Konzert i
 st am Sonnabend\, 7. März\, um 18 Uhr in der Ansgarkirche Kiel geplant. T
 ickets zu 17\,50 bis 27 Euro sind über www.musikfreunde-kiel.de oder Tel.
  0431 / 149 01 24 sowie an der Abendkasse zu haben.\n\nFoto: Andrej Grilc\
 n\n3. Klassisch beflügelt: Kontrabass im Fokus\nSamstag\, 7. März 2026 u
 m 18.00 Uhr\, Ansgarkirche Kiel (Ecke Waitz-/Holtenauer Straße)\n\nProgra
 mm:\n• Johann Sebastian Bach (1685-1750)\nSonate für Viola da Gamba und
  Cembalo Nr. 2 D-Dur BWV 1028\n• Arvo Pärt (*1935)\nSpiegel im Spiegel\
 n• Giovanni Bottesini (1821-1889)\nIntroduzione e Bolero\n• Frank Prot
 o (*1941)\nA Carmen Fantasy für Kontrabass und Klavier\n• Henry Mancini
  (1924-1994)\nMoon River (aus dem Film Breakfast at Tiffany's)\n• Astor 
 Piazzolla (1921-1992)\nAve Maria ("Tanti anni prima")\n• George Gershwin
  (1898-1937)\nRhapsody in Blue\n\nMitwirkende:\n• Dominik Wagner\, Kontr
 abass\n• Lauma Skride\, Klavier\n\nKarten über Tel. 0431 / 149 01 24 un
 d www.musikfreunde-kiel.de\nzu 17\,50 bis 27 € für Nichtmitglieder | 14
  bis 22 € für Musikfreunde-Mitglieder | 5 bis 10 € für Schüler*inne
 n/Studierende/Auszubildende im Vorverkauf\, frei für sie bei kostenlosem 
 Eintritt in den Verein.\n\n&nbsp\;
ATTACH;FMTTYPE=image/jpeg:https://kiel-szene.de/wp-content/uploads/2026/03
 /Wagner_Grilc_CMYK-e1772525189663.jpg
CATEGORIES:Live-Konzerte
LOCATION:St. Ansgarkirche\, Holtenauer Str. 91\, Kiel\, 24340\, Deutschland
X-APPLE-STRUCTURED-LOCATION;VALUE=URI;X-ADDRESS=Holtenauer Str. 91\, Kiel\,
  24340\, Deutschland;X-APPLE-RADIUS=100;X-TITLE=St. Ansgarkirche:geo:0,0
END:VEVENT
BEGIN:VTIMEZONE
TZID:Europe/Berlin
X-LIC-LOCATION:Europe/Berlin
BEGIN:STANDARD
DTSTART:20251026T020000
TZOFFSETFROM:+0200
TZOFFSETTO:+0100
TZNAME:CET
END:STANDARD
END:VTIMEZONE
END:VCALENDAR